BEGIN:VCALENDAR
VERSION:2.0
PRODID:-//Total Power - ECPv6.15.20//NONSGML v1.0//EN
CALSCALE:GREGORIAN
METHOD:PUBLISH
X-WR-CALNAME:Total Power
X-ORIGINAL-URL:https://www.totalpower.ca
X-WR-CALDESC:Events for Total Power
REFRESH-INTERVAL;VALUE=DURATION:PT1H
X-Robots-Tag:noindex
X-PUBLISHED-TTL:PT1H
BEGIN:VTIMEZONE
TZID:UTC
BEGIN:STANDARD
TZOFFSETFROM:+0000
TZOFFSETTO:+0000
TZNAME:UTC
DTSTART:20250101T000000
END:STANDARD
END:VTIMEZONE
BEGIN:VEVENT
DTSTART;TZID=UTC:20260512T080000
DTEND;TZID=UTC:20260513T170000
DTSTAMP:20260422T103405
CREATED:20251021T191958Z
LAST-MODIFIED:20260318T131721Z
UID:6659-1778572800-1778691600@www.totalpower.ca
SUMMARY:Generator Service Training - Air Cooled
DESCRIPTION:
URL:https://www.totalpower.ca/training/generator-service-training-air-cooled-91/
LOCATION:Total Power Limited Offices\, 6450 Kestrel Rd.\, Mississauga\, Ontario\, L5T 1Z7\, Canada
CATEGORIES:Generator Service Training Courses
END:VEVENT
END:VCALENDAR